BEGIN:VCALENDAR
VERSION:2.0
PRODID:-//ChamberMaster//Event Calendar 2.0//EN
METHOD:PUBLISH
X-PUBLISHED-TTL:P3D
REFRESH-INTERVAL:P3D
CALSCALE:GREGORIAN
BEGIN:VEVENT
DTSTART:20110622T150000Z
DTEND:20110622T153000Z
X-MICROSOFT-CDO-ALLDAYEVENT:FALSE
SUMMARY:Laptime Storytime for Toddlers
DESCRIPTION:Bring your own adult lap for a fun\, interactive storytime for our youngest readers.
X-ALT-DESC;FMTTYPE=text/html:Bring your own adult lap for a fun\, interactive storytime for our youngest readers.
LOCATION:Chapters Books & Gifts 548 Seward Street\, Seward
UID:e.865.1073
SEQUENCE:3
DTSTAMP:20260424T220324Z
URL:https://business.cultivatesewardcounty.com/events/details/laptime-storytime-for-toddlers-06-22-2011-1073
END:VEVENT

END:VCALENDAR
