BEGIN:VCALENDAR
VERSION:2.0
PRODID:-//ChamberMaster//Event Calendar 2.0//EN
METHOD:PUBLISH
X-PUBLISHED-TTL:P3D
REFRESH-INTERVAL:P3D
CALSCALE:GREGORIAN
BEGIN:VEVENT
DTSTART:20131201T000000Z
DTEND:20131201T020000Z
X-MICROSOFT-CDO-ALLDAYEVENT:FALSE
SUMMARY:Kiwanis Helping Hands Soup Supper
DESCRIPTION:Kiwanis Helping Hands Soup Supper  -  immediately following the parade\, some to the Civic Center and warm up with some hot soup and other side dishes
X-ALT-DESC;FMTTYPE=text/html:Kiwanis Helping Hands Soup Supper&nbsp\; -&nbsp\; immediately following the parade\, some to the Civic Center and warm up with some hot soup and other side dishes
LOCATION:Civic Center - lower level 616 Bradford St. Seward\, NE
UID:e.865.3412
SEQUENCE:3
DTSTAMP:20260421T175749Z
URL:https://business.cultivatesewardcounty.com/events/details/kiwanis-helping-hands-soup-supper-11-30-2013-3412
END:VEVENT

END:VCALENDAR
