BEGIN:VCALENDAR
VERSION:2.0
PRODID:-//ChamberMaster//Event Calendar 2.0//EN
METHOD:PUBLISH
X-PUBLISHED-TTL:P3D
REFRESH-INTERVAL:P3D
CALSCALE:GREGORIAN
BEGIN:VEVENT
DTSTART:20140329T180000Z
DTEND:20140329T203000Z
X-MICROSOFT-CDO-ALLDAYEVENT:FALSE
SUMMARY:Kickstart Your Creativity Workshop
DESCRIPTION:Kickstart Your Creativity Workshop for writers and others wanting to add inspiration to their lives. Pre-registration is required. Call Chapters Books & Gifts at 402-643-2282
X-ALT-DESC;FMTTYPE=text/html:Kickstart Your Creativity Workshop for writers and others wanting to add inspiration to their lives. Pre-registration is required. Call Chapters Books &amp\; Gifts at 402-643-2282
LOCATION:Chapters Books & Gifts\, 548 Seward St.
UID:e.865.3569
SEQUENCE:3
DTSTAMP:20260421T125104Z
URL:https://business.cultivatesewardcounty.com/events/details/kickstart-your-creativity-workshop-03-29-2014-3569
END:VEVENT

END:VCALENDAR
