BEGIN:VCALENDAR
VERSION:2.0
PRODID:-//ChamberMaster//Event Calendar 2.0//EN
METHOD:PUBLISH
X-PUBLISHED-TTL:P3D
REFRESH-INTERVAL:P3D
CALSCALE:GREGORIAN
BEGIN:VEVENT
DTSTART:20130622T130000Z
DTEND:20130624T020000Z
X-MICROSOFT-CDO-ALLDAYEVENT:FALSE
SUMMARY:June Tune-Up Ball Tournament
DESCRIPTION:June Tune-Up Ball Tournament for girls ages 10 - 18U.
X-ALT-DESC;FMTTYPE=text/html:June Tune-Up Ball Tournament for girls ages 10 - 18U.
LOCATION:Plum Creek Sports Complex 2222 Karol Kay Blvd. Seward\, NE
UID:e.865.2098
SEQUENCE:3
DTSTAMP:20260422T003531Z
URL:https://business.cultivatesewardcounty.com/events/details/june-tune-up-ball-tournament-06-22-2013-2098
END:VEVENT

END:VCALENDAR
