BEGIN:VCALENDAR
VERSION:2.0
PRODID:-//ChamberMaster//Event Calendar 2.0//EN
METHOD:PUBLISH
X-PUBLISHED-TTL:P3D
REFRESH-INTERVAL:P3D
CALSCALE:GREGORIAN
BEGIN:VEVENT
DTSTART;VALUE=DATE:20140606
DTEND;VALUE=DATE:20140607
TRANSP:TRANSPARENT
X-MICROSOFT-CDO-ALLDAYEVENT:TRUE
SUMMARY:Jr. Jays Invite Baseball Tournament
DESCRIPTION:Jr. Jays Invite Baseball Tournament
X-ALT-DESC;FMTTYPE=text/html:Jr. Jays Invite Baseball Tournament
LOCATION:Plum\, Creek Sports Complex 2222 Karol Kay Blvd. Seward\, NE
UID:e.865.3865
SEQUENCE:3
DTSTAMP:20260421T082817Z
URL:https://business.cultivatesewardcounty.com/events/details/jr-jays-invite-baseball-tournament-06-06-2014-3865
END:VEVENT

END:VCALENDAR
