BEGIN:VCALENDAR
VERSION:2.0
PRODID:-//ChamberMaster//Event Calendar 2.0//EN
METHOD:PUBLISH
X-PUBLISHED-TTL:P3D
REFRESH-INTERVAL:P3D
CALSCALE:GREGORIAN
BEGIN:VEVENT
DTSTART:20140303T180000Z
DTEND:20140303T190000Z
X-MICROSOFT-CDO-ALLDAYEVENT:FALSE
SUMMARY:Joint Noon Kiwanis & Chamber Legislative Luncheon
DESCRIPTION:Join the Chamber and the Noon Kiwanis Club for a joint luncheon featuring State Senator Greg Adams
X-ALT-DESC;FMTTYPE=text/html:Join the Chamber and the Noon Kiwanis Club for a joint luncheon featuring State Senator Greg Adams
LOCATION:Civic Center
UID:e.865.3477
SEQUENCE:3
DTSTAMP:20260421T142042Z
URL:https://business.cultivatesewardcounty.com/events/details/joint-noon-kiwanis-chamber-legislative-luncheon-03-03-2014-3477
END:VEVENT

END:VCALENDAR
