BEGIN:VCALENDAR
VERSION:2.0
PRODID:-//ChamberMaster//Event Calendar 2.0//EN
METHOD:PUBLISH
X-PUBLISHED-TTL:P3D
REFRESH-INTERVAL:P3D
CALSCALE:GREGORIAN
BEGIN:VEVENT
DTSTART:20110502T214500Z
DTEND:20110502T224500Z
X-MICROSOFT-CDO-ALLDAYEVENT:FALSE
SUMMARY:John Davis - Presidential Candidate @ Panama Coffee
DESCRIPTION:Presidential candidate John Davis' Votercade across America grass roots\n\n	campaign tour will be stopping in Seward to talk with citizens at Panama Coffee in Seward.
X-ALT-DESC;FMTTYPE=text/html:<p>\n	Presidential candidate John Davis&#39\; Votercade across America grass roots<br />\n	campaign tour will be stopping in Seward to talk with citizens at Panama Coffee in Seward.</p>\n
LOCATION:Panama Coffee\, 310 N. 5th St.\, Seward\, NE 68434
UID:e.865.1081
SEQUENCE:3
DTSTAMP:20260424T231441Z
URL:https://business.cultivatesewardcounty.com/events/details/john-davis-presidential-candidate-panama-coffee-05-02-2011-1081
END:VEVENT

END:VCALENDAR
