BEGIN:VCALENDAR
VERSION:2.0
PRODID:-//ChamberMaster//Event Calendar 2.0//EN
METHOD:PUBLISH
X-PUBLISHED-TTL:P3D
REFRESH-INTERVAL:P3D
CALSCALE:GREGORIAN
BEGIN:VEVENT
DTSTART;VALUE=DATE:20140601
DTEND;VALUE=DATE:20140602
TRANSP:TRANSPARENT
X-MICROSOFT-CDO-ALLDAYEVENT:TRUE
SUMMARY:Jazz June Jam Softball Tournament
DESCRIPTION:Jazz June Jam Softball Tournament\n\nAge group girls 8\, 10\, 12 and under. \n\nExpect 30 to 40 teams
X-ALT-DESC;FMTTYPE=text/html:&nbsp\;Jazz June Jam Softball Tournament<br />\nAge group girls 8\, 10\, 12 and under.&nbsp\;<br />\nExpect 30 to 40 teams
LOCATION:Plum Creek Sports Complex 2222 Karol Kay Blvd. Seward\, NE
UID:e.865.3864
SEQUENCE:3
DTSTAMP:20260421T084107Z
URL:https://business.cultivatesewardcounty.com/events/details/jazz-june-jam-softball-tournament-06-01-2014-3864
END:VEVENT

END:VCALENDAR
