BEGIN:VCALENDAR
VERSION:2.0
PRODID:-//ChamberMaster//Event Calendar 2.0//EN
METHOD:PUBLISH
X-PUBLISHED-TTL:P3D
REFRESH-INTERVAL:P3D
CALSCALE:GREGORIAN
BEGIN:VEVENT
DTSTART;VALUE=DATE:20140531
DTEND;VALUE=DATE:20140601
TRANSP:TRANSPARENT
X-MICROSOFT-CDO-ALLDAYEVENT:TRUE
SUMMARY:Jazz June Jam Softball Tournament
DESCRIPTION:Jazz June Jam Ball Tournament\n\nAge group girls 8\, 10\, 12 and under.  Expect 30 to 40 teams
X-ALT-DESC;FMTTYPE=text/html:Jazz June Jam Ball Tournament<br />\nAge group girls 8\, 10\, 12 and under.&nbsp\; Expect 30 to 40 teams
LOCATION:Plum Creek Park 2222 Karol Kay Blvd. Seward\, NE
UID:e.865.3863
SEQUENCE:3
DTSTAMP:20260421T095614Z
URL:https://business.cultivatesewardcounty.com/events/details/jazz-june-jam-softball-tournament-05-31-2014-3863
END:VEVENT

END:VCALENDAR
