BEGIN:VCALENDAR
VERSION:2.0
PRODID:-//ChamberMaster//Event Calendar 2.0//EN
METHOD:PUBLISH
X-PUBLISHED-TTL:P3D
REFRESH-INTERVAL:P3D
CALSCALE:GREGORIAN
BEGIN:VEVENT
DTSTART;VALUE=DATE:20130601
DTEND;VALUE=DATE:20130603
TRANSP:TRANSPARENT
X-MICROSOFT-CDO-ALLDAYEVENT:TRUE
SUMMARY:Jazz June Jam Ball Tournament
DESCRIPTION:Jazz June Jam Ball Tournament\n\nAge group girls 8\, 10\, 12 and under.  Expect 30 to 40 teams
X-ALT-DESC;FMTTYPE=text/html:Jazz June Jam Ball Tournament<br />\nAge group girls 8\, 10\, 12 and under.&nbsp\; Expect 30 to 40 teams
LOCATION:Plum Creek Park 2222 Karol Kay Blvd. Seward\, NE
UID:e.865.2085
SEQUENCE:3
DTSTAMP:20260422T014828Z
URL:https://business.cultivatesewardcounty.com/events/details/jazz-june-jam-ball-tournament-06-01-2013-2085
END:VEVENT

END:VCALENDAR
