BEGIN:VCALENDAR
VERSION:2.0
PRODID:-//ChamberMaster//Event Calendar 2.0//EN
METHOD:PUBLISH
X-PUBLISHED-TTL:P3D
REFRESH-INTERVAL:P3D
CALSCALE:GREGORIAN
BEGIN:VEVENT
DTSTART:20110721T000000Z
DTEND:20110721T010000Z
X-MICROSOFT-CDO-ALLDAYEVENT:FALSE
SUMMARY:Jammin with Jesus
DESCRIPTION:A summer series of music and messages to honor Jesus.\n\n\n\nIn case of rain - move to Living Word Lutheran Church - 1 block east\n\n\n\nTentative schedule\n\n\n\nJune 8 - Lucas Hitch\, former member of Simple Grace\n\nJune 15 - Ambiance from Lincoln Berean Church\n\nJune 22 - Southview Baptist Church\n\nJune 29 - Kelli Paulsen\, Hooked on to God and McClellan Sisters\, Blue Grass & Gospel\n\nJuly 6 - Great Plains Community Church\n\nJuly 13 - New Sound\, Praise & Worship Team from Beaver Crossing\n\nJuly 20 - Great Plains Community Church\n\nJuly 27 - Wissman Family Singers\n\nAugust 3 - New Creations Ministry
X-ALT-DESC;FMTTYPE=text/html:A summer series of music and messages to honor Jesus.<br />\n<br />\nIn case of rain - move to Living Word Lutheran Church - 1 block east<br />\n<br />\nTentative schedule<br />\n<br />\nJune 8 - Lucas Hitch\, former member of Simple Grace<br />\nJune 15 - Ambiance from Lincoln Berean Church<br />\nJune 22 - Southview Baptist Church<br />\nJune 29 - Kelli Paulsen\, Hooked on to God and McClellan Sisters\, Blue Grass &amp\; Gospel<br />\nJuly 6 - Great Plains Community Church<br />\nJuly 13 - New Sound\, Praise &amp\; Worship Team from Beaver Crossing<br />\nJuly 20 - Great Plains Community Church<br />\nJuly 27 - Wissman Family Singers<br />\nAugust 3 - New Creations Ministry
LOCATION:Seward Band Shell
UID:e.865.1116
SEQUENCE:3
DTSTAMP:20260424T202412Z
URL:https://business.cultivatesewardcounty.com/events/details/jammin-with-jesus-07-20-2011-1116
END:VEVENT

END:VCALENDAR
