BEGIN:VCALENDAR
VERSION:2.0
PRODID:-//ChamberMaster//Event Calendar 2.0//EN
METHOD:PUBLISH
X-PUBLISHED-TTL:P3D
REFRESH-INTERVAL:P3D
CALSCALE:GREGORIAN
BEGIN:VEVENT
DTSTART:20130729T000000Z
DTEND:20130729T020000Z
X-MICROSOFT-CDO-ALLDAYEVENT:FALSE
SUMMARY:James Hersch Concert
DESCRIPTION:Free concert sponsored by Faith Lutheran and Hillcrest Evangelical Free Churches with ice social following concert
X-ALT-DESC;FMTTYPE=text/html:Free concert sponsored by Faith Lutheran and Hillcrest Evangelical Free Churches with ice social following concert
LOCATION:Hillcrest Evangelical Free Church
UID:e.865.2283
SEQUENCE:3
DTSTAMP:20260421T231017Z
URL:https://business.cultivatesewardcounty.com/events/details/james-hersch-concert-07-28-2013-2283
END:VEVENT

END:VCALENDAR
