BEGIN:VCALENDAR
VERSION:2.0
PRODID:-//ChamberMaster//Event Calendar 2.0//EN
METHOD:PUBLISH
X-PUBLISHED-TTL:P3D
REFRESH-INTERVAL:P3D
CALSCALE:GREGORIAN
BEGIN:VEVENT
DTSTART:20120311T213000Z
DTEND:20120311T233000Z
X-MICROSOFT-CDO-ALLDAYEVENT:FALSE
SUMMARY:Izaak Walton Soup Supper
DESCRIPTION:The Izaak Walton League will host a Soup Supper at the Seward Civic Center from 4:30pm to 6:30pm.
X-ALT-DESC;FMTTYPE=text/html:The Izaak Walton League will host a Soup Supper at the Seward Civic Center from 4:30pm to 6:30pm.
LOCATION:Seward Civic Center 616 Bradford St. Seward\, NE 68434 Lower Level Banquet Room
UID:e.865.1348
SEQUENCE:3
DTSTAMP:20260424T083119Z
URL:https://business.cultivatesewardcounty.com/events/details/izaak-walton-soup-supper-03-11-2012-1348
END:VEVENT

END:VCALENDAR
