BEGIN:VCALENDAR
VERSION:2.0
PRODID:-//ChamberMaster//Event Calendar 2.0//EN
METHOD:PUBLISH
X-PUBLISHED-TTL:P3D
REFRESH-INTERVAL:P3D
CALSCALE:GREGORIAN
BEGIN:VEVENT
DTSTART:20121103T003000Z
DTEND:20121103T023000Z
X-MICROSOFT-CDO-ALLDAYEVENT:FALSE
SUMMARY:Into the Woods performance
DESCRIPTION:This musical combines the well-known fairy tales of Cinderella\, Rapunzel\, Jack and the Beanstalk and Little Red Ridinghood with the story of the Baker and his Wife. Tickets are $8 for adults and $3 for children 12 and under at the door.
X-ALT-DESC;FMTTYPE=text/html:This musical combines the well-known fairy tales of Cinderella\, Rapunzel\, Jack and the Beanstalk and Little Red Ridinghood with the story of the Baker and his Wife. Tickets are $8 for adults and $3 for children 12 and under at the door.
LOCATION:Weller Auditorium\, Concordia
UID:e.865.1722
SEQUENCE:3
DTSTAMP:20260422T100649Z
URL:https://business.cultivatesewardcounty.com/events/details/into-the-woods-performance-11-02-2012-1722
END:VEVENT

END:VCALENDAR
