BEGIN:VCALENDAR
VERSION:2.0
PRODID:-//ChamberMaster//Event Calendar 2.0//EN
METHOD:PUBLISH
X-PUBLISHED-TTL:P3D
REFRESH-INTERVAL:P3D
CALSCALE:GREGORIAN
BEGIN:VEVENT
DTSTART:20121111T190000Z
DTEND:20121111T220000Z
X-MICROSOFT-CDO-ALLDAYEVENT:FALSE
SUMMARY:Into the Ashes II: Recent Drawings by Marle Mueller
DESCRIPTION:Art exhibit opening reception 1-4 p.m. in Marxhausen Gallery. Artist talk at 2 p.m. in TLEC Auditorium.
X-ALT-DESC;FMTTYPE=text/html:Art exhibit opening reception 1-4 p.m. in Marxhausen Gallery. Artist talk at 2 p.m. in TLEC Auditorium.
LOCATION:Marxhausen Gallery of Art\, Jesse Hall\, Concordia
UID:e.865.1728
SEQUENCE:3
DTSTAMP:20260422T113032Z
URL:https://business.cultivatesewardcounty.com/events/details/into-the-ashes-ii-recent-drawings-by-marle-mueller-11-11-2012-1728
END:VEVENT

END:VCALENDAR
