BEGIN:VCALENDAR
VERSION:2.0
PRODID:-//ChamberMaster//Event Calendar 2.0//EN
METHOD:PUBLISH
X-PUBLISHED-TTL:P3D
REFRESH-INTERVAL:P3D
CALSCALE:GREGORIAN
BEGIN:VEVENT
DTSTART:20140504T003000Z
DTEND:20140504T030000Z
X-MICROSOFT-CDO-ALLDAYEVENT:FALSE
SUMMARY:IMPROVables Performances
DESCRIPTION:IMPROVables Performances at Concordia University Studio Theatre\, Music Center
X-ALT-DESC;FMTTYPE=text/html:IMPROVables Performances at Concordia University Studio Theatre\, Music Center
LOCATION:Concordia University Studio Theatre\, Mustic Center 800 N Columbia Seward\, NE
UID:e.865.3835
SEQUENCE:3
DTSTAMP:20260421T093810Z
URL:https://business.cultivatesewardcounty.com/events/details/improvables-performances-05-03-2014-3835
END:VEVENT

END:VCALENDAR
