BEGIN:VCALENDAR
VERSION:2.0
PRODID:-//ChamberMaster//Event Calendar 2.0//EN
METHOD:PUBLISH
X-PUBLISHED-TTL:P3D
REFRESH-INTERVAL:P3D
CALSCALE:GREGORIAN
BEGIN:VEVENT
DTSTART:20140208T013000Z
DTEND:20140208T040000Z
X-MICROSOFT-CDO-ALLDAYEVENT:FALSE
SUMMARY:IMPROVables Performances
DESCRIPTION:IMPROVables Performances  -  There will be two shows. One starts at 7:30 p.m. and the other at 9:00 p.m.  Each show will last one hour.\n\nConcordia actors engage with the audience through interactive scenes and activities to create a one-of-a kind performance. Performances in Studio Theatre\, Music Center. Tickets are free\, but are recommended due to limited seating. Tickets are available in advance at the campus bookstore or prior to the show at the door.\n\nhttp://www.cune.edu
X-ALT-DESC;FMTTYPE=text/html:IMPROVables Performances&nbsp\; -&nbsp\; There will be two shows. One starts at 7:30 p.m. and the other at 9:00 p.m.&nbsp\; Each show will last one hour.<br />\nConcordia actors engage with the audience through interactive scenes and activities to create a one-of-a kind performance. Performances in Studio Theatre\, Music Center. Tickets are free\, but are recommended due to limited seating. Tickets are available in advance at the campus bookstore or prior to the show at the door.<br />\n<a href="http://www.cune.edu">http://www.cune.edu</a>
LOCATION:Studio Theatre\, Music Center Concordia University 800 North Columbia Seward\, NE
UID:e.865.3460
SEQUENCE:3
DTSTAMP:20260421T151415Z
URL:https://business.cultivatesewardcounty.com/events/details/improvables-performances-02-07-2014-3460
END:VEVENT

END:VCALENDAR
