BEGIN:VCALENDAR
VERSION:2.0
PRODID:-//ChamberMaster//Event Calendar 2.0//EN
METHOD:PUBLISH
X-PUBLISHED-TTL:P3D
REFRESH-INTERVAL:P3D
CALSCALE:GREGORIAN
BEGIN:VEVENT
DTSTART:20120429T003000Z
DTEND:20120429T030000Z
X-MICROSOFT-CDO-ALLDAYEVENT:FALSE
SUMMARY:IMPROVables Performance
DESCRIPTION:Concordia actors engage with the audience through interactive scenes and activities to create a one-of-a kind performance. Performances in Studio Theatre\, Music Center.\n\n\n\nTickets are free\, but are recommended due to limited seating. Tickets are available in advance at the campus bookstore or prior to the show at the door.
X-ALT-DESC;FMTTYPE=text/html:Concordia actors engage with the audience through interactive scenes and activities to create a one-of-a kind performance. Performances in Studio Theatre\, Music Center.<br />\n<br />\nTickets are free\, but are recommended due to limited seating. Tickets are available in advance at the campus bookstore or prior to the show at the door.
LOCATION:Studio Theatre\, Music Building\, Concordia University
UID:e.865.1373
SEQUENCE:3
DTSTAMP:20260422T200729Z
URL:https://business.cultivatesewardcounty.com/events/details/improvables-performance-04-28-2012-1373
END:VEVENT

END:VCALENDAR
