BEGIN:VCALENDAR
VERSION:2.0
PRODID:-//ChamberMaster//Event Calendar 2.0//EN
METHOD:PUBLISH
X-PUBLISHED-TTL:P3D
REFRESH-INTERVAL:P3D
CALSCALE:GREGORIAN
BEGIN:VEVENT
DTSTART:20120204T013000Z
DTEND:20120204T040000Z
X-MICROSOFT-CDO-ALLDAYEVENT:FALSE
SUMMARY:IMPROVables Performance
DESCRIPTION:There will be two shows. One starts at 7:30 p.m. and the other at 9:00 p.m. \n\nEach show will last one hour.\n\n\n\nConcordia actors engage with the audience through interactive scenes and activities to create a one-of-a kind performance. Performances in Studio Theatre\, Music Center. Tickets are free\, but are recommended due to limited seating. Tickets are available in advance at the campus bookstore or prior to the show at the door.
X-ALT-DESC;FMTTYPE=text/html:There will be two shows. One starts at 7:30 p.m. and the other at 9:00 p.m.&nbsp\;<br />\nEach show will last one hour.<br />\n<br />\nConcordia actors engage with the audience through interactive scenes and activities to create a one-of-a kind performance. Performances in Studio Theatre\, Music Center. Tickets are free\, but are recommended due to limited seating. Tickets are available in advance at the campus bookstore or prior to the show at the door.
LOCATION:Concordia University\; Thom Leadership Education Center (TLEC) auditorium
UID:e.865.1349
SEQUENCE:3
DTSTAMP:20260424T111329Z
URL:https://business.cultivatesewardcounty.com/events/details/improvables-performance-02-03-2012-1349
END:VEVENT

END:VCALENDAR
