BEGIN:VCALENDAR
VERSION:2.0
PRODID:-//ChamberMaster//Event Calendar 2.0//EN
METHOD:PUBLISH
X-PUBLISHED-TTL:P3D
REFRESH-INTERVAL:P3D
CALSCALE:GREGORIAN
BEGIN:VEVENT
DTSTART:20130711T230000Z
DTEND:20130715T020000Z
X-MICROSOFT-CDO-ALLDAYEVENT:FALSE
SUMMARY:I-80 Pony Baseball Tournament
DESCRIPTION:I-80 Baseball Pony Tournament for boys 14 and under.
X-ALT-DESC;FMTTYPE=text/html:I-80 Baseball Pony Tournament for boys 14 and under.&nbsp\;
LOCATION:Plum Creek Park 2222 Karol Kay Avenue Seward\, NE
UID:e.865.2828
SEQUENCE:3
DTSTAMP:20260421T231206Z
URL:https://business.cultivatesewardcounty.com/events/details/i-80-pony-baseball-tournament-07-11-2013-2828
END:VEVENT

END:VCALENDAR
