BEGIN:VCALENDAR
VERSION:2.0
PRODID:-//ChamberMaster//Event Calendar 2.0//EN
METHOD:PUBLISH
X-PUBLISHED-TTL:P3D
REFRESH-INTERVAL:P3D
CALSCALE:GREGORIAN
BEGIN:VEVENT
DTSTART;VALUE=DATE:20151114
DTEND;VALUE=DATE:20151115
TRANSP:TRANSPARENT
X-MICROSOFT-CDO-ALLDAYEVENT:TRUE
SUMMARY:Hope Dunbar - Acoustic Guitar - Listening Room
DESCRIPTION:
X-ALT-DESC;FMTTYPE=text/html:
LOCATION:Red Path Gallery & Tasting room
UID:e.865.4768
SEQUENCE:3
DTSTAMP:20260422T101417Z
URL:https://business.cultivatesewardcounty.com/events/details/hope-dunbar-acoustic-guitar-listening-room-11-14-2015-4768
END:VEVENT

END:VCALENDAR
