BEGIN:VCALENDAR
VERSION:2.0
PRODID:-//ChamberMaster//Event Calendar 2.0//EN
METHOD:PUBLISH
X-PUBLISHED-TTL:P3D
REFRESH-INTERVAL:P3D
CALSCALE:GREGORIAN
BEGIN:VEVENT
DTSTART:20120828T130000Z
DTEND:20120828T160000Z
X-MICROSOFT-CDO-ALLDAYEVENT:FALSE
SUMMARY:Hometown Heroes Blood Drive
DESCRIPTION:Donate blood with the Nebraska Community Blood Bank to help raise funds for emergency response equipment in the Seward community!
X-ALT-DESC;FMTTYPE=text/html:Donate blood with the Nebraska Community Blood Bank to help raise funds for emergency response equipment in the Seward community!
LOCATION:Cattle National Bank (104 S. 5th St.\, Seward\, NE 68434)
UID:e.865.1682
SEQUENCE:3
DTSTAMP:20260422T140208Z
URL:https://business.cultivatesewardcounty.com/events/details/hometown-heroes-blood-drive-08-28-2012-1682
END:VEVENT

END:VCALENDAR
