BEGIN:VCALENDAR
VERSION:2.0
PRODID:-//ChamberMaster//Event Calendar 2.0//EN
METHOD:PUBLISH
X-PUBLISHED-TTL:P3D
REFRESH-INTERVAL:P3D
CALSCALE:GREGORIAN
BEGIN:VEVENT
DTSTART:20120825T133000Z
DTEND:20120825T173000Z
X-MICROSOFT-CDO-ALLDAYEVENT:FALSE
SUMMARY:Hometown Heroes Blood Drive
DESCRIPTION:Donate blood with the Nebraska Community Blood Bank to help raise funds for emergency response equipment in the community!
X-ALT-DESC;FMTTYPE=text/html:Donate blood with the Nebraska Community Blood Bank to help raise funds for emergency response equipment in the&nbsp\;community!
LOCATION:Garland Fire Department (Fire Hall\, Main Street\, Garland\, NE)
UID:e.865.1681
SEQUENCE:3
DTSTAMP:20260422T140358Z
URL:https://business.cultivatesewardcounty.com/events/details/hometown-heroes-blood-drive-08-25-2012-1681
END:VEVENT

END:VCALENDAR
