BEGIN:VCALENDAR
VERSION:2.0
PRODID:-//ChamberMaster//Event Calendar 2.0//EN
METHOD:PUBLISH
X-PUBLISHED-TTL:P3D
REFRESH-INTERVAL:P3D
CALSCALE:GREGORIAN
BEGIN:VEVENT
DTSTART:20120809T160000Z
DTEND:20120809T190000Z
X-MICROSOFT-CDO-ALLDAYEVENT:FALSE
SUMMARY:Hometown Heroes Blood Drive
DESCRIPTION:Donate blood with the Nebraska Community Blood Bank to help raise funds for emergency response equipment in the community!
X-ALT-DESC;FMTTYPE=text/html:Donate blood with the Nebraska Community Blood Bank to help raise funds for emergency response equipment in the community!
LOCATION:Utica Fire Hall (P.O. Box 155\, Utica\, NE 68456)
UID:e.865.1678
SEQUENCE:3
DTSTAMP:20260422T140254Z
URL:https://business.cultivatesewardcounty.com/events/details/hometown-heroes-blood-drive-08-09-2012-1678
END:VEVENT

END:VCALENDAR
