BEGIN:VCALENDAR
VERSION:2.0
PRODID:-//ChamberMaster//Event Calendar 2.0//EN
METHOD:PUBLISH
X-PUBLISHED-TTL:P3D
REFRESH-INTERVAL:P3D
CALSCALE:GREGORIAN
BEGIN:VEVENT
DTSTART:20120802T130000Z
DTEND:20120802T180000Z
X-MICROSOFT-CDO-ALLDAYEVENT:FALSE
SUMMARY:Hometown Heroes Blood Drive
DESCRIPTION:Donate blood with the Nebraska Community Blood Bank to help raise funds for emergency response equipment in the Seward community!
X-ALT-DESC;FMTTYPE=text/html:Donate blood with the Nebraska Community Blood Bank to help raise funds for emergency response equipment in the Seward community!
LOCATION:Plains Equipment Group (977 280th Rd. Seward\, NE 68434)
UID:e.865.1677
SEQUENCE:3
DTSTAMP:20260422T140159Z
URL:https://business.cultivatesewardcounty.com/events/details/hometown-heroes-blood-drive-08-02-2012-1677
END:VEVENT

END:VCALENDAR
