BEGIN:VCALENDAR
VERSION:2.0
PRODID:-//ChamberMaster//Event Calendar 2.0//EN
METHOD:PUBLISH
X-PUBLISHED-TTL:P3D
REFRESH-INTERVAL:P3D
CALSCALE:GREGORIAN
BEGIN:VEVENT
DTSTART:20140613T130000Z
DTEND:20140613T170000Z
X-MICROSOFT-CDO-ALLDAYEVENT:FALSE
SUMMARY:Hometown Heroes Blood Drive
DESCRIPTION:The Nebraska Community Blood Bank is encouraging all community members to step up and donate at a Hometown Heroes blood drive. To make an appointment to donate go to NCBB.org and enter sponsor code: CBS.
X-ALT-DESC;FMTTYPE=text/html:The Nebraska Community Blood Bank is encouraging all community members to step up and donate at a Hometown Heroes blood drive. To make an appointment to donate go to NCBB.org and enter sponsor code: CBS.
LOCATION:The Cattle National Bank and Trust\, 105 S 5th Street
UID:e.865.3934
SEQUENCE:3
DTSTAMP:20260421T082735Z
URL:https://business.cultivatesewardcounty.com/events/details/hometown-heroes-blood-drive-06-13-2014-3934
END:VEVENT

END:VCALENDAR
