BEGIN:VCALENDAR
VERSION:2.0
PRODID:-//ChamberMaster//Event Calendar 2.0//EN
METHOD:PUBLISH
X-PUBLISHED-TTL:P3D
REFRESH-INTERVAL:P3D
CALSCALE:GREGORIAN
BEGIN:VEVENT
DTSTART:20140611T183000Z
DTEND:20140611T220000Z
X-MICROSOFT-CDO-ALLDAYEVENT:FALSE
SUMMARY:Hometown Heroes Blood Drive
DESCRIPTION:The Nebraska Community Blood Bank is encouraging all community members to step up and donate at a Hometown Heroes blood drive. To make an appointment to donate go to NCBB.org and enter sponsor code: FLC.
X-ALT-DESC;FMTTYPE=text/html:The Nebraska Community Blood Bank is encouraging all community members to step up and donate at a Hometown Heroes blood drive. To make an appointment to donate go to NCBB.org and enter sponsor code: FLC.
LOCATION:Faith Lutheran Church\, 1245 N 2nd Street
UID:e.865.3932
SEQUENCE:3
DTSTAMP:20260421T082638Z
URL:https://business.cultivatesewardcounty.com/events/details/hometown-heroes-blood-drive-06-11-2014-3932
END:VEVENT

END:VCALENDAR
