BEGIN:VCALENDAR
VERSION:2.0
PRODID:-//ChamberMaster//Event Calendar 2.0//EN
METHOD:PUBLISH
X-PUBLISHED-TTL:P3D
REFRESH-INTERVAL:P3D
CALSCALE:GREGORIAN
BEGIN:VEVENT
DTSTART:20121124T213000Z
DTEND:20121125T020000Z
X-MICROSOFT-CDO-ALLDAYEVENT:FALSE
SUMMARY:Helping Hands Kiwanis Santa Soup Supper
DESCRIPTION:Soup supper sponsored by the Helping Hand Kiwanis. Chili or Chicken Noodle\, raw veggies\, cinnamon rolls\, coffee. Proceeds to benefit youth projects in the community.
X-ALT-DESC;FMTTYPE=text/html:Soup supper sponsored by the Helping Hand Kiwanis. Chili or Chicken Noodle\, raw veggies\, cinnamon rolls\, coffee. Proceeds to benefit youth projects in the community. 
LOCATION:Seward Civic Center
UID:e.865.1706
SEQUENCE:3
DTSTAMP:20260422T112154Z
URL:https://business.cultivatesewardcounty.com/events/details/helping-hands-kiwanis-santa-soup-supper-11-24-2012-1706
END:VEVENT

END:VCALENDAR
