BEGIN:VCALENDAR
VERSION:2.0
PRODID:-//ChamberMaster//Event Calendar 2.0//EN
METHOD:PUBLISH
X-PUBLISHED-TTL:P3D
REFRESH-INTERVAL:P3D
CALSCALE:GREGORIAN
BEGIN:VEVENT
DTSTART:20130324T140000Z
DTEND:20130324T180000Z
X-MICROSOFT-CDO-ALLDAYEVENT:FALSE
SUMMARY:Helping Hands Kiwanis Pancake/French Toast Breakfast Feed
DESCRIPTION:Enjoy a Sunday breakfast of French Toast and/or Pancakes with sausage\, scrambled eggs and drink
X-ALT-DESC;FMTTYPE=text/html:Enjoy a Sunday breakfast of French Toast and/or Pancakes with sausage\,&nbsp\;scrambled eggs and drink&nbsp\;&nbsp\;&nbsp\;&nbsp\;
LOCATION:Civic Center Corner of Bradford St. and Hwy 15 Seward\, NE
UID:e.865.1901
SEQUENCE:3
DTSTAMP:20260422T060546Z
URL:https://business.cultivatesewardcounty.com/events/details/helping-hands-kiwanis-pancake-french-toast-breakfast-feed-03-24-2013-1901
END:VEVENT

END:VCALENDAR
