BEGIN:VCALENDAR
VERSION:2.0
PRODID:-//ChamberMaster//Event Calendar 2.0//EN
METHOD:PUBLISH
X-PUBLISHED-TTL:P3D
REFRESH-INTERVAL:P3D
CALSCALE:GREGORIAN
BEGIN:VEVENT
DTSTART:20130511T130000Z
DTEND:20130511T170000Z
X-MICROSOFT-CDO-ALLDAYEVENT:FALSE
SUMMARY:Heartfelt Poker Fitness Challenge
DESCRIPTION:Heartfelt Poker Fitness Challenge  -  Course approximately 3.3 miles with 5 stations that participants will stop at. You may run\, walk or bike the course.  At each station participants will draw a card for your "poker hand" by the end of the event.  In addition\, at each station participants will be asked to perform jumping jacks\, push-ups\, etc.  Then it is off to the next station.   Prizes will be awarded.
X-ALT-DESC;FMTTYPE=text/html:Heartfelt Poker Fitness Challenge&nbsp\; -&nbsp\; Course approximately 3.3 miles with 5 stations that&nbsp\;participants will&nbsp\;stop at. You may run\, walk or bike the course.&nbsp\; At each station participants will draw a card for your &quot\;poker hand&quot\; by the end of the event.&nbsp\; In addition\, at each station participants will be asked to perform jumping jacks\, push-ups\, etc.&nbsp\; Then it is off to the next station.&nbsp\;&nbsp\; Prizes will be awarded.
LOCATION:St. Vincent's DePaul Catholic Church 152 Pinewood Avenue Seward\, NE
UID:e.865.2102
SEQUENCE:3
DTSTAMP:20260422T015335Z
URL:https://business.cultivatesewardcounty.com/events/details/heartfelt-poker-fitness-challenge-05-11-2013-2102
END:VEVENT

END:VCALENDAR
