BEGIN:VCALENDAR
VERSION:2.0
PRODID:-//ChamberMaster//Event Calendar 2.0//EN
METHOD:PUBLISH
X-PUBLISHED-TTL:P3D
REFRESH-INTERVAL:P3D
CALSCALE:GREGORIAN
BEGIN:VEVENT
DTSTART:20130323T130000Z
DTEND:20130323T160000Z
X-MICROSOFT-CDO-ALLDAYEVENT:FALSE
SUMMARY:Hazardous Household Waste Collection
DESCRIPTION:Safe disposal of hazardous materials around your home.
X-ALT-DESC;FMTTYPE=text/html:Safe disposal of hazardous materials around your home.
LOCATION:Seward County Fairgrounds 500 North 14th Street Seward\, NE
UID:e.865.1899
SEQUENCE:3
DTSTAMP:20260422T044455Z
URL:https://business.cultivatesewardcounty.com/events/details/hazardous-household-waste-collection-03-23-2013-1899
END:VEVENT

END:VCALENDAR
