BEGIN:VCALENDAR
VERSION:2.0
PRODID:-//ChamberMaster//Event Calendar 2.0//EN
METHOD:PUBLISH
X-PUBLISHED-TTL:P3D
REFRESH-INTERVAL:P3D
CALSCALE:GREGORIAN
BEGIN:VEVENT
DTSTART:20120429T200000Z
DTEND:20120429T210000Z
X-MICROSOFT-CDO-ALLDAYEVENT:FALSE
SUMMARY:Handbell Concert
DESCRIPTION:
X-ALT-DESC;FMTTYPE=text/html:
LOCATION:Recital Hall in Music Center\, Concordia University
UID:e.865.1388
SEQUENCE:3
DTSTAMP:20260422T200857Z
URL:https://business.cultivatesewardcounty.com/events/details/handbell-concert-04-29-2012-1388
END:VEVENT

END:VCALENDAR
