BEGIN:VCALENDAR
VERSION:2.0
PRODID:-//ChamberMaster//Event Calendar 2.0//EN
METHOD:PUBLISH
X-PUBLISHED-TTL:P3D
REFRESH-INTERVAL:P3D
CALSCALE:GREGORIAN
BEGIN:VEVENT
DTSTART:20111027T223000Z
DTEND:20111027T233000Z
X-MICROSOFT-CDO-ALLDAYEVENT:FALSE
SUMMARY:Halloween Costume Contest
DESCRIPTION:Seward Rotary Halloween Costume Contest\n\n\n\nPrizes/Medals/Candy for all Children
X-ALT-DESC;FMTTYPE=text/html:Seward Rotary Halloween Costume Contest<br />\n<br />\nPrizes/Medals/Candy for all Children&nbsp\;
LOCATION:Seward Bandshell on 5th Street between Jackson and Seward Streets. In the event of inclement weather\, it will be held in the Seward Civic Center Auditorium at 616 Bradford St.\, Seward\, NE - west door to enter
UID:e.865.1159
SEQUENCE:3
DTSTAMP:20260424T154757Z
URL:https://business.cultivatesewardcounty.com/events/details/halloween-costume-contest-10-27-2011-1159
END:VEVENT

END:VCALENDAR
