BEGIN:VCALENDAR
VERSION:2.0
PRODID:-//ChamberMaster//Event Calendar 2.0//EN
METHOD:PUBLISH
X-PUBLISHED-TTL:P3D
REFRESH-INTERVAL:P3D
CALSCALE:GREGORIAN
BEGIN:VEVENT
DTSTART:20131107T230000Z
DTEND:20131108T020000Z
X-MICROSOFT-CDO-ALLDAYEVENT:FALSE
SUMMARY:Hairtrix Open House
DESCRIPTION:Hairtix Open House
X-ALT-DESC;FMTTYPE=text/html:Hairtix Open House
LOCATION:Hairtrix 629 Jackson Avenue Seward\, NE
UID:e.865.3363
SEQUENCE:3
DTSTAMP:20260421T191706Z
URL:https://business.cultivatesewardcounty.com/events/details/hairtrix-open-house-11-07-2013-3363
END:VEVENT

END:VCALENDAR
