BEGIN:VCALENDAR
VERSION:2.0
PRODID:-//ChamberMaster//Event Calendar 2.0//EN
METHOD:PUBLISH
X-PUBLISHED-TTL:P3D
REFRESH-INTERVAL:P3D
CALSCALE:GREGORIAN
BEGIN:VEVENT
DTSTART;VALUE=DATE:20131104
DTEND;VALUE=DATE:20131105
TRANSP:TRANSPARENT
X-MICROSOFT-CDO-ALLDAYEVENT:TRUE
SUMMARY:Hairtrix 10th Anniversary Celebration all week
DESCRIPTION:Hairtrix 10th Anniversary celebration with daily specials all week.
X-ALT-DESC;FMTTYPE=text/html:Hairtrix 10th Anniversary celebration with daily specials all week.
LOCATION:Hairtrix 629 Jackson Avenue Seward\, NE
UID:e.865.3362
SEQUENCE:3
DTSTAMP:20260421T180137Z
URL:https://business.cultivatesewardcounty.com/events/details/hairtrix-10th-anniversary-celebration-all-week-11-04-2013-3362
END:VEVENT

END:VCALENDAR
