BEGIN:VCALENDAR
VERSION:2.0
PRODID:-//ChamberMaster//Event Calendar 2.0//EN
METHOD:PUBLISH
X-PUBLISHED-TTL:P3D
REFRESH-INTERVAL:P3D
CALSCALE:GREGORIAN
BEGIN:VEVENT
DTSTART;VALUE=DATE:20131101
DTEND;VALUE=DATE:20131102
TRANSP:TRANSPARENT
X-MICROSOFT-CDO-ALLDAYEVENT:TRUE
SUMMARY:Hairtrix 10th Anniversary
DESCRIPTION:Hairtrix 10th Anniversary
X-ALT-DESC;FMTTYPE=text/html:Hairtrix 10th Anniversary
LOCATION:Hairtrix 629 Jackson Avenue Seward\, NE
UID:e.865.3361
SEQUENCE:3
DTSTAMP:20260421T175918Z
URL:https://business.cultivatesewardcounty.com/events/details/hairtrix-10th-anniversary-11-01-2013-3361
END:VEVENT

END:VCALENDAR
