BEGIN:VCALENDAR
VERSION:2.0
PRODID:-//ChamberMaster//Event Calendar 2.0//EN
METHOD:PUBLISH
X-PUBLISHED-TTL:P3D
REFRESH-INTERVAL:P3D
CALSCALE:GREGORIAN
BEGIN:VEVENT
DTSTART:20120322T140000Z
DTEND:20120323T230000Z
X-MICROSOFT-CDO-ALLDAYEVENT:FALSE
SUMMARY:H&R BLOCK FREE 2ND LOOK REVIEW
DESCRIPTION:If you didn't use H&R Block\, bring in your return for a FREE Second Look Review.  We'll check for missed deductions and credits\, to help make sure you get the maximum refund you're entitled to.  We find money others miss!  We'll also certify whether or not your original return is accurate.\n\n\n\nGetting a Second Look Review is easy . . . all you need to do is bring in copies of your 2008\, 2009 and 2010 tax returns.  We'll even review your 2011 return if it's already been prepared by someone else.
X-ALT-DESC;FMTTYPE=text/html:If you didn&#39\;t use H&amp\;R Block\, bring in your return for a FREE Second Look Review.&nbsp\; We&#39\;ll check for missed deductions and credits\, to help make sure you get the maximum refund you&#39\;re entitled to.&nbsp\; We find money others miss!&nbsp\; We&#39\;ll also certify whether or not your original return is accurate.<br />\n<br />\nGetting a Second Look Review is easy . . . all you need to do is bring in copies of your 2008\, 2009 and 2010 tax returns.&nbsp\; We&#39\;ll even review your 2011 return if it&#39\;s already been prepared by someone else.
LOCATION:H&R Block\, 645 Seward St.\, Seward\, NE 68434
UID:e.865.1382
SEQUENCE:3
DTSTAMP:20260424T083336Z
URL:https://business.cultivatesewardcounty.com/events/details/h-r-block-free-2nd-look-review-03-22-2012-1382
END:VEVENT

END:VCALENDAR
