BEGIN:VCALENDAR
VERSION:2.0
PRODID:-//ChamberMaster//Event Calendar 2.0//EN
METHOD:PUBLISH
X-PUBLISHED-TTL:P3D
REFRESH-INTERVAL:P3D
CALSCALE:GREGORIAN
BEGIN:VEVENT
DTSTART:20120419T000000Z
DTEND:20120419T020000Z
X-MICROSOFT-CDO-ALLDAYEVENT:FALSE
SUMMARY:Guest Artist Robert Edwards at Concordia University
DESCRIPTION:Christopher Nichols with the Music Department at Concordia University in Seward\, NE will be performing a faculty clarinet/saxophone and piano recital with guest artist Robert Edwards.
X-ALT-DESC;FMTTYPE=text/html:Christopher Nichols with the Music Department at Concordia University in Seward\, NE will be performing a faculty clarinet/saxophone and piano recital with guest artist Robert Edwards.
LOCATION:Music Center Recital Hall\, Concordia University\, Seward\, NE
UID:e.865.1384
SEQUENCE:3
DTSTAMP:20260422T201354Z
URL:https://business.cultivatesewardcounty.com/events/details/guest-artist-robert-edwards-at-concordia-university-04-18-2012-1384
END:VEVENT

END:VCALENDAR
