BEGIN:VCALENDAR
VERSION:2.0
PRODID:-//ChamberMaster//Event Calendar 2.0//EN
METHOD:PUBLISH
X-PUBLISHED-TTL:P3D
REFRESH-INTERVAL:P3D
CALSCALE:GREGORIAN
BEGIN:VEVENT
DTSTART:20140619T220000Z
DTEND:20140620T000000Z
X-MICROSOFT-CDO-ALLDAYEVENT:FALSE
SUMMARY:Greene Place Grand Reopening
DESCRIPTION:Celebrate Greene Place Grand Reopening!\n\nJoin us for a free community BBQ with entertainment.\n\nJune 19th 5-7 pm\n\nFree summer concert in the courtyard and musical performance featuring Paul Siebert.
X-ALT-DESC;FMTTYPE=text/html:Celebrate Greene Place Grand Reopening!<br />\nJoin us for a free community BBQ with entertainment.<br />\nJune 19th 5-7 pm<br />\nFree summer concert in the courtyard and musical performance featuring Paul Siebert.
LOCATION:Greene Place Assisted Living 600 Church Street Seward\, NE 68434
UID:e.865.3935
SEQUENCE:3
DTSTAMP:20260421T084107Z
URL:https://business.cultivatesewardcounty.com/events/details/greene-place-grand-reopening-06-19-2014-3935
END:VEVENT

END:VCALENDAR
