BEGIN:VCALENDAR
VERSION:2.0
PRODID:-//ChamberMaster//Event Calendar 2.0//EN
METHOD:PUBLISH
X-PUBLISHED-TTL:P3D
REFRESH-INTERVAL:P3D
CALSCALE:GREGORIAN
BEGIN:VEVENT
DTSTART;VALUE=DATE:20140623
DTEND;VALUE=DATE:20140624
TRANSP:TRANSPARENT
X-MICROSOFT-CDO-ALLDAYEVENT:TRUE
SUMMARY:Grace Lutheran Church Vacation Bible School
DESCRIPTION:Grace Lutheran Church Vacation Bible School for 4 year olds through 6th grade.  VBS will be held from 9:00 am to 11:30 am Monday\, June 23rd through Friday\, June 27th.\n\nhttp://www.graceseward.org
X-ALT-DESC;FMTTYPE=text/html:Grace Lutheran Church Vacation Bible School for 4 year olds through 6th grade.&nbsp\; VBS will be held from 9:00 am to 11:30 am Monday\, June 23rd through Friday\, June 27th.<br />\n<a href="http://www.graceseward.org">http://www.graceseward.org</a>
LOCATION:Grace Lutheran Church 746 Pinewood Ave. Seward. NE
UID:e.865.3926
SEQUENCE:3
DTSTAMP:20260421T083030Z
URL:https://business.cultivatesewardcounty.com/events/details/grace-lutheran-church-vacation-bible-school-06-23-2014-3926
END:VEVENT

END:VCALENDAR
