BEGIN:VCALENDAR
VERSION:2.0
PRODID:-//ChamberMaster//Event Calendar 2.0//EN
METHOD:PUBLISH
X-PUBLISHED-TTL:P3D
REFRESH-INTERVAL:P3D
CALSCALE:GREGORIAN
BEGIN:VEVENT
DTSTART:20130303T170000Z
DTEND:20130304T010000Z
X-MICROSOFT-CDO-ALLDAYEVENT:FALSE
SUMMARY:Goehner Spaghetti Feed
DESCRIPTION:56th Annual Spaghetti Feed
X-ALT-DESC;FMTTYPE=text/html:56th Annual Spaghetti Feed
LOCATION:Goehner Fire Hall
UID:e.865.1756
SEQUENCE:3
DTSTAMP:20260422T044245Z
URL:https://business.cultivatesewardcounty.com/events/details/goehner-spaghetti-feed-03-03-2013-1756
END:VEVENT

END:VCALENDAR
