BEGIN:VCALENDAR
VERSION:2.0
PRODID:-//ChamberMaster//Event Calendar 2.0//EN
METHOD:PUBLISH
X-PUBLISHED-TTL:P3D
REFRESH-INTERVAL:P3D
CALSCALE:GREGORIAN
BEGIN:VEVENT
DTSTART:20140302T170000Z
DTEND:20140303T010000Z
X-MICROSOFT-CDO-ALLDAYEVENT:FALSE
SUMMARY:Goehner Spagheetti Feed
DESCRIPTION:Goehner Spaghetti Feed
X-ALT-DESC;FMTTYPE=text/html:Goehner Spaghetti Feed&nbsp\;&nbsp\;&nbsp\;&nbsp\;
LOCATION:Goehner\, NE
UID:e.865.3553
SEQUENCE:3
DTSTAMP:20260421T125911Z
URL:https://business.cultivatesewardcounty.com/events/details/goehner-spagheetti-feed-03-02-2014-3553
END:VEVENT

END:VCALENDAR
