BEGIN:VCALENDAR
VERSION:2.0
PRODID:-//ChamberMaster//Event Calendar 2.0//EN
METHOD:PUBLISH
X-PUBLISHED-TTL:P3D
REFRESH-INTERVAL:P3D
CALSCALE:GREGORIAN
BEGIN:VEVENT
DTSTART:20140615T190000Z
DTEND:20140615T220000Z
X-MICROSOFT-CDO-ALLDAYEVENT:FALSE
SUMMARY:Goehner Centennial Player Melodrama
DESCRIPTION:The Goehner Centennial Players are back! Enjoy "Klondike Kate" and dessert!
X-ALT-DESC;FMTTYPE=text/html:The Goehner Centennial Players are back! Enjoy &quot\;Klondike Kate&quot\; and dessert!
LOCATION:Olde Glory Theatre\, 348 Jackson
UID:e.865.3489
SEQUENCE:3
DTSTAMP:20260421T082437Z
URL:https://business.cultivatesewardcounty.com/events/details/goehner-centennial-player-melodrama-06-15-2014-3489
END:VEVENT

END:VCALENDAR
