BEGIN:VCALENDAR
VERSION:2.0
PRODID:-//ChamberMaster//Event Calendar 2.0//EN
METHOD:PUBLISH
X-PUBLISHED-TTL:P3D
REFRESH-INTERVAL:P3D
CALSCALE:GREGORIAN
BEGIN:VEVENT
DTSTART:20140612T230000Z
DTEND:20140613T030000Z
X-MICROSOFT-CDO-ALLDAYEVENT:FALSE
SUMMARY:Goehner Centennial Player Melodrama
DESCRIPTION:The Goehner Centennial Players are back! Enjoy a prime rib dinner and "Klondike Kate"
X-ALT-DESC;FMTTYPE=text/html:The Goehner Centennial Players are back! Enjoy a prime rib dinner and &quot\;Klondike Kate&quot\;
LOCATION:Olde Glory Theatre\, 348 Jackson
UID:e.865.3485
SEQUENCE:3
DTSTAMP:20260421T082301Z
URL:https://business.cultivatesewardcounty.com/events/details/goehner-centennial-player-melodrama-06-12-2014-3485
END:VEVENT

END:VCALENDAR
