BEGIN:VCALENDAR
VERSION:2.0
PRODID:-//ChamberMaster//Event Calendar 2.0//EN
METHOD:PUBLISH
X-PUBLISHED-TTL:P3D
REFRESH-INTERVAL:P3D
CALSCALE:GREGORIAN
BEGIN:VEVENT
DTSTART:20140608T190000Z
DTEND:20140608T220000Z
X-MICROSOFT-CDO-ALLDAYEVENT:FALSE
SUMMARY:Goehner Centennial Player Melodrama
DESCRIPTION:The Goehner Centennial Players are back! Enjoy "Klondike Kate" with popcorn and pop!  SORRY! THIS PERFORMANCE IS SOLD OUT!
X-ALT-DESC;FMTTYPE=text/html:The Goehner Centennial Players are back! Enjoy &quot\;Klondike Kate&quot\; with popcorn and pop!&nbsp\; SORRY! THIS PERFORMANCE IS SOLD OUT!
LOCATION:Olde Glory Theatre\, 348 Jackson
UID:e.865.3488
SEQUENCE:3
DTSTAMP:20260421T083630Z
URL:https://business.cultivatesewardcounty.com/events/details/goehner-centennial-player-melodrama-06-08-2014-3488
END:VEVENT

END:VCALENDAR
