BEGIN:VCALENDAR
VERSION:2.0
PRODID:-//ChamberMaster//Event Calendar 2.0//EN
METHOD:PUBLISH
X-PUBLISHED-TTL:P3D
REFRESH-INTERVAL:P3D
CALSCALE:GREGORIAN
BEGIN:VEVENT
DTSTART:20140607T000000Z
DTEND:20140607T030000Z
X-MICROSOFT-CDO-ALLDAYEVENT:FALSE
SUMMARY:Goehner Centennial Player Melodrama
DESCRIPTION:Opening night of the return of the Goehner Centennial Players performing "Klondike Kate." - Popcorn & Pop Night.
X-ALT-DESC;FMTTYPE=text/html:Opening night of the return of the Goehner Centennial Players performing &quot\;Klondike Kate.&quot\; - Popcorn &amp\; Pop Night.
LOCATION:Olde Glory Theatre\, 348 Jackson
UID:e.865.3482
SEQUENCE:3
DTSTAMP:20260421T083630Z
URL:https://business.cultivatesewardcounty.com/events/details/goehner-centennial-player-melodrama-06-06-2014-3482
END:VEVENT

END:VCALENDAR
