BEGIN:VCALENDAR
VERSION:2.0
PRODID:-//ChamberMaster//Event Calendar 2.0//EN
METHOD:PUBLISH
X-PUBLISHED-TTL:P3D
REFRESH-INTERVAL:P3D
CALSCALE:GREGORIAN
BEGIN:VEVENT
DTSTART:20110823T133000Z
DTEND:20110823T170000Z
X-MICROSOFT-CDO-ALLDAYEVENT:FALSE
SUMMARY:Glenn Shephard Seminar
DESCRIPTION:Click below for flyer\n\n\n\nGlen Shephard Flyer & Registration
X-ALT-DESC;FMTTYPE=text/html:Click below for flyer<br />\n<br />\n<a href="http://cloud.chambermaster.com/userfiles/UserFiles/chambers/865/File/GlenShephardSeminar2011.pdf">Glen Shephard Flyer &amp\; Registration</a>
LOCATION:Seward Civic Center 616 Bradford St. Seward\, NE 68434
UID:e.865.1135
SEQUENCE:3
DTSTAMP:20260424T202517Z
URL:https://business.cultivatesewardcounty.com/events/details/glenn-shephard-seminar-08-23-2011-1135
END:VEVENT

END:VCALENDAR
