BEGIN:VCALENDAR
VERSION:2.0
PRODID:-//ChamberMaster//Event Calendar 2.0//EN
METHOD:PUBLISH
X-PUBLISHED-TTL:P3D
REFRESH-INTERVAL:P3D
CALSCALE:GREGORIAN
BEGIN:VEVENT
DTSTART;VALUE=DATE:20130723
DTEND;VALUE=DATE:20130726
TRANSP:TRANSPARENT
X-MICROSOFT-CDO-ALLDAYEVENT:TRUE
SUMMARY:Girls Softball Clinic
DESCRIPTION:Girls Softball Clinic  -  Register online at www.cune.edu/athletics/softball
X-ALT-DESC;FMTTYPE=text/html:Girls Softball Clinic&nbsp\; -&nbsp\; Register online at www.cune.edu/athletics/softball<br />\n<br />\n
LOCATION:Plum Creek Sports Complex 2222 Karol Kay Blvd. Seward\, NE
UID:e.865.2099
SEQUENCE:3
DTSTAMP:20260421T231408Z
URL:https://business.cultivatesewardcounty.com/events/details/girls-softball-clinic-07-23-2013-2099
END:VEVENT

END:VCALENDAR
