BEGIN:VCALENDAR
VERSION:2.0
PRODID:-//ChamberMaster//Event Calendar 2.0//EN
METHOD:PUBLISH
X-PUBLISHED-TTL:P3D
REFRESH-INTERVAL:P3D
CALSCALE:GREGORIAN
BEGIN:VEVENT
DTSTART:20131026T140000Z
DTEND:20131026T190000Z
X-MICROSOFT-CDO-ALLDAYEVENT:FALSE
SUMMARY:GFWC Seward Woman's Club "Make a Difference Day"
DESCRIPTION:GFWC Seward Woman's Club "Make a Difference Day"  -  food and clothing drive at area grocery stores and Civic Center
X-ALT-DESC;FMTTYPE=text/html:GFWC Seward Woman&#39\;s Club &quot\;Make a Difference Day&quot\;&nbsp\; -&nbsp\; food and clothing drive at area grocery stores and Civic Center
LOCATION:Area grocery stores and Civic Center located at 616 Bradford St.\, Seward\, NE
UID:e.865.2924
SEQUENCE:3
DTSTAMP:20260421T193212Z
URL:https://business.cultivatesewardcounty.com/events/details/gfwc-seward-woman-s-club-make-a-difference-day-10-26-2013-2924
END:VEVENT

END:VCALENDAR
