BEGIN:VCALENDAR
VERSION:2.0
PRODID:-//ChamberMaster//Event Calendar 2.0//EN
METHOD:PUBLISH
X-PUBLISHED-TTL:P3D
REFRESH-INTERVAL:P3D
CALSCALE:GREGORIAN
BEGIN:VEVENT
DTSTART:20140426T173000Z
DTEND:20140426T203000Z
X-MICROSOFT-CDO-ALLDAYEVENT:FALSE
SUMMARY:Frisbee Golf Tournament
DESCRIPTION:Frisbee Golf Tournament  -  FREE clinic for beginners at 12:40 pm with Stevem Schneider Disc Pro.  Shotgun Start at 1:00 pm\; registration at 12:30 pm.  Pre-registration at Farmers & Merchants Bank\, Jones National Bank\, Cattle National Bank\, First Bank of Utica.  PROCEEDS to benefit Seward County TeamMates.
X-ALT-DESC;FMTTYPE=text/html:Frisbee Golf Tournament&nbsp\; -&nbsp\; FREE clinic for beginners at 12:40 pm with Stevem Schneider Disc Pro.&nbsp\; Shotgun Start at 1:00 pm\; registration at 12:30 pm.&nbsp\; Pre-registration at Farmers &amp\; Merchants Bank\, Jones National Bank\, Cattle National Bank\, First Bank of Utica.&nbsp\; PROCEEDS to benefit Seward County TeamMates.
LOCATION:Plum Creek Park 2222 Karol Kay Blvd. Seward\, NE
UID:e.865.3877
SEQUENCE:3
DTSTAMP:20260421T125426Z
URL:https://business.cultivatesewardcounty.com/events/details/frisbee-golf-tournament-04-26-2014-3877
END:VEVENT

END:VCALENDAR
